BEGIN:VCALENDAR
VERSION:2.0
PRODID:-//Alden District Library - ECPv6.15.20//NONSGML v1.0//EN
CALSCALE:GREGORIAN
METHOD:PUBLISH
X-WR-CALNAME:Alden District Library
X-ORIGINAL-URL:https://www.aldenlib.info
X-WR-CALDESC:Events for Alden District Library
REFRESH-INTERVAL;VALUE=DURATION:PT1H
X-Robots-Tag:noindex
X-PUBLISHED-TTL:PT1H
BEGIN:VTIMEZONE
TZID:America/Detroit
BEGIN:DAYLIGHT
TZOFFSETFROM:-0500
TZOFFSETTO:-0400
TZNAME:EDT
DTSTART:20250309T070000
END:DAYLIGHT
BEGIN:STANDARD
TZOFFSETFROM:-0400
TZOFFSETTO:-0500
TZNAME:EST
DTSTART:20251102T060000
END:STANDARD
BEGIN:DAYLIGHT
TZOFFSETFROM:-0500
TZOFFSETTO:-0400
TZNAME:EDT
DTSTART:20260308T070000
END:DAYLIGHT
BEGIN:STANDARD
TZOFFSETFROM:-0400
TZOFFSETTO:-0500
TZNAME:EST
DTSTART:20261101T060000
END:STANDARD
BEGIN:DAYLIGHT
TZOFFSETFROM:-0500
TZOFFSETTO:-0400
TZNAME:EDT
DTSTART:20270314T070000
END:DAYLIGHT
BEGIN:STANDARD
TZOFFSETFROM:-0400
TZOFFSETTO:-0500
TZNAME:EST
DTSTART:20271107T060000
END:STANDARD
END:VTIMEZONE
BEGIN:VEVENT
DTSTART;TZID=America/Detroit:20260303T100000
DTEND;TZID=America/Detroit:20260303T120000
DTSTAMP:20260420T113924
CREATED:20260220T163543Z
LAST-MODIFIED:20260220T163657Z
UID:727-1772532000-1772539200@www.aldenlib.info
SUMMARY:Torch Area Artisans Guild (TAAG)
DESCRIPTION:TUESDAYS\, 10am-12pm. This artisans’ group has been creating art and contributing to the community for over 40 years. Newcomers are always welcome! For more info\, email taartisansguild@gmail.com . Sponsored by Alden District Library and held at Helena Township Community Center\, 8751 Helena Rd\, Alden\, 231-331-4318.
URL:https://www.aldenlib.info/event/torch-area-artisans-guild-taag-3-3/
LOCATION:Alden District Library\, 8751 Helena Rd\, Alden\, MI\, 49612\, United States
ORGANIZER;CN="Alden District Library":MAILTO:aldenlib@torchlake.com
END:VEVENT
BEGIN:VEVENT
DTSTART;TZID=America/Detroit:20260310T100000
DTEND;TZID=America/Detroit:20260310T120000
DTSTAMP:20260420T113924
CREATED:20260220T163725Z
LAST-MODIFIED:20260220T163734Z
UID:731-1773136800-1773144000@www.aldenlib.info
SUMMARY:Torch Area Artisans Guild (TAAG)
DESCRIPTION:TUESDAYS\, 10am-12pm. This artisans’ group has been creating art and contributing to the community for over 40 years. Newcomers are always welcome! For more info\, email taartisansguild@gmail.com . Sponsored by Alden District Library and held at Helena Township Community Center\, 8751 Helena Rd\, Alden\, 231-331-4318.
URL:https://www.aldenlib.info/event/torch-area-artisans-guild-taag-3-10/
LOCATION:Alden District Library\, 8751 Helena Rd\, Alden\, MI\, 49612\, United States
ORGANIZER;CN="Alden District Library":MAILTO:aldenlib@torchlake.com
END:VEVENT
BEGIN:VEVENT
DTSTART;TZID=America/Detroit:20260317T100000
DTEND;TZID=America/Detroit:20260317T120000
DTSTAMP:20260420T113924
CREATED:20260220T163805Z
LAST-MODIFIED:20260220T163814Z
UID:733-1773741600-1773748800@www.aldenlib.info
SUMMARY:Torch Area Artisans Guild (TAAG)
DESCRIPTION:TUESDAYS\, 10am-12pm. This artisans’ group has been creating art and contributing to the community for over 40 years. Newcomers are always welcome! For more info\, email taartisansguild@gmail.com . Sponsored by Alden District Library and held at Helena Township Community Center\, 8751 Helena Rd\, Alden\, 231-331-4318.
URL:https://www.aldenlib.info/event/torch-area-artisans-guild-taag-3-17/
LOCATION:Alden District Library\, 8751 Helena Rd\, Alden\, MI\, 49612\, United States
ORGANIZER;CN="Alden District Library":MAILTO:aldenlib@torchlake.com
END:VEVENT
BEGIN:VEVENT
DTSTART;TZID=America/Detroit:20260324T100000
DTEND;TZID=America/Detroit:20260324T120000
DTSTAMP:20260420T113925
CREATED:20260220T163847Z
LAST-MODIFIED:20260220T163855Z
UID:735-1774346400-1774353600@www.aldenlib.info
SUMMARY:Torch Area Artisans Guild (TAAG)
DESCRIPTION:TUESDAYS\, 10am-12pm. This artisans’ group has been creating art and contributing to the community for over 40 years. Newcomers are always welcome! For more info\, email taartisansguild@gmail.com . Sponsored by Alden District Library and held at Helena Township Community Center\, 8751 Helena Rd\, Alden\, 231-331-4318.
URL:https://www.aldenlib.info/event/torch-area-artisans-guild-taag-3-24-26/
LOCATION:Alden District Library\, 8751 Helena Rd\, Alden\, MI\, 49612\, United States
ORGANIZER;CN="Alden District Library":MAILTO:aldenlib@torchlake.com
END:VEVENT
BEGIN:VEVENT
DTSTART;TZID=America/Detroit:20260331T100000
DTEND;TZID=America/Detroit:20260331T120000
DTSTAMP:20260420T113925
CREATED:20260220T163921Z
LAST-MODIFIED:20260220T163931Z
UID:737-1774951200-1774958400@www.aldenlib.info
SUMMARY:Torch Area Artisans Guild (TAAG)
DESCRIPTION:TUESDAYS\, 10am-12pm. This artisans’ group has been creating art and contributing to the community for over 40 years. Newcomers are always welcome! For more info\, email taartisansguild@gmail.com . Sponsored by Alden District Library and held at Helena Township Community Center\, 8751 Helena Rd\, Alden\, 231-331-4318.
URL:https://www.aldenlib.info/event/torch-area-artisans-guild-taag-3-31-26/
LOCATION:Alden District Library\, 8751 Helena Rd\, Alden\, MI\, 49612\, United States
ORGANIZER;CN="Alden District Library":MAILTO:aldenlib@torchlake.com
END:VEVENT
BEGIN:VEVENT
DTSTART;TZID=America/Detroit:20260407T100000
DTEND;TZID=America/Detroit:20260407T120000
DTSTAMP:20260420T113925
CREATED:20260403T185926Z
LAST-MODIFIED:20260403T190048Z
UID:885-1775556000-1775563200@www.aldenlib.info
SUMMARY:Torch Area Artisans Guild (TAAG)
DESCRIPTION:TUESDAYS\, 10am-12pm. This artisans’ group has been creating art and contributing to the community for over 40 years. Newcomers are always welcome! For more info\, email taartisansguild@gmail.com . Sponsored by Alden District Library and held at Helena Township Community Center\, 8751 Helena Rd\, Alden\, 231-331-4318.
URL:https://www.aldenlib.info/event/torch-area-artisans-guild-taag-4-7-26/
LOCATION:Alden District Library\, 8751 Helena Rd\, Alden\, MI\, 49612\, United States
ORGANIZER;CN="Alden District Library":MAILTO:aldenlib@torchlake.com
END:VEVENT
BEGIN:VEVENT
DTSTART;TZID=America/Detroit:20260414T100000
DTEND;TZID=America/Detroit:20260414T120000
DTSTAMP:20260420T113925
CREATED:20260403T190137Z
LAST-MODIFIED:20260403T190201Z
UID:888-1776160800-1776168000@www.aldenlib.info
SUMMARY:Torch Area Artisans Guild (TAAG)
DESCRIPTION:TUESDAYS\, 10am-12pm. This artisans’ group has been creating art and contributing to the community for over 40 years. Newcomers are always welcome! For more info\, email taartisansguild@gmail.com . Sponsored by Alden District Library and held at Helena Township Community Center\, 8751 Helena Rd\, Alden\, 231-331-4318.
URL:https://www.aldenlib.info/event/torch-area-artisans-guild-taag-4-14-26/
LOCATION:Alden District Library\, 8751 Helena Rd\, Alden\, MI\, 49612\, United States
ORGANIZER;CN="Alden District Library":MAILTO:aldenlib@torchlake.com
END:VEVENT
BEGIN:VEVENT
DTSTART;TZID=America/Detroit:20260418T090000
DTEND;TZID=America/Detroit:20260418T160000
DTSTAMP:20260420T113925
CREATED:20260403T200401Z
LAST-MODIFIED:20260403T200445Z
UID:946-1776502800-1776528000@www.aldenlib.info
SUMMARY:Torch Area Artisans Guild (TAAG) : Saturday Sew-in
DESCRIPTION:
URL:https://www.aldenlib.info/event/torch-area-artisans-guild-taag-saturday-sew-in/
LOCATION:Alden District Library\, 8751 Helena Rd\, Alden\, MI\, 49612\, United States
ATTACH;FMTTYPE=image/jpeg:https://www.aldenlib.info/wp-content/uploads/2026/04/TAAG-Saturday-sew-In.jpg
ORGANIZER;CN="Alden District Library":MAILTO:aldenlib@torchlake.com
END:VEVENT
BEGIN:VEVENT
DTSTART;TZID=America/Detroit:20260421T100000
DTEND;TZID=America/Detroit:20260421T120000
DTSTAMP:20260420T113925
CREATED:20260403T190225Z
LAST-MODIFIED:20260403T190243Z
UID:890-1776765600-1776772800@www.aldenlib.info
SUMMARY:Torch Area Artisans Guild (TAAG)
DESCRIPTION:TUESDAYS\, 10am-12pm. This artisans’ group has been creating art and contributing to the community for over 40 years. Newcomers are always welcome! For more info\, email taartisansguild@gmail.com . Sponsored by Alden District Library and held at Helena Township Community Center\, 8751 Helena Rd\, Alden\, 231-331-4318.
URL:https://www.aldenlib.info/event/torch-area-artisans-guild-taag-4-21-26/
LOCATION:Alden District Library\, 8751 Helena Rd\, Alden\, MI\, 49612\, United States
ORGANIZER;CN="Alden District Library":MAILTO:aldenlib@torchlake.com
END:VEVENT
BEGIN:VEVENT
DTSTART;TZID=America/Detroit:20260428T100000
DTEND;TZID=America/Detroit:20260428T120000
DTSTAMP:20260420T113925
CREATED:20260403T190305Z
LAST-MODIFIED:20260403T190314Z
UID:892-1777370400-1777377600@www.aldenlib.info
SUMMARY:Torch Area Artisans Guild (TAAG)
DESCRIPTION:TUESDAYS\, 10am-12pm. This artisans’ group has been creating art and contributing to the community for over 40 years. Newcomers are always welcome! For more info\, email taartisansguild@gmail.com . Sponsored by Alden District Library and held at Helena Township Community Center\, 8751 Helena Rd\, Alden\, 231-331-4318.
URL:https://www.aldenlib.info/event/torch-area-artisans-guild-taag-4-28-26/
LOCATION:Alden District Library\, 8751 Helena Rd\, Alden\, MI\, 49612\, United States
ORGANIZER;CN="Alden District Library":MAILTO:aldenlib@torchlake.com
END:VEVENT
END:VCALENDAR