BEGIN:VCALENDAR
VERSION:2.0
PRODID:-//Alden District Library - ECPv6.15.20//NONSGML v1.0//EN
CALSCALE:GREGORIAN
METHOD:PUBLISH
X-ORIGINAL-URL:https://www.aldenlib.info
X-WR-CALDESC:Events for Alden District Library
REFRESH-INTERVAL;VALUE=DURATION:PT1H
X-Robots-Tag:noindex
X-PUBLISHED-TTL:PT1H
BEGIN:VTIMEZONE
TZID:America/Detroit
BEGIN:DAYLIGHT
TZOFFSETFROM:-0500
TZOFFSETTO:-0400
TZNAME:EDT
DTSTART:20250309T070000
END:DAYLIGHT
BEGIN:STANDARD
TZOFFSETFROM:-0400
TZOFFSETTO:-0500
TZNAME:EST
DTSTART:20251102T060000
END:STANDARD
BEGIN:DAYLIGHT
TZOFFSETFROM:-0500
TZOFFSETTO:-0400
TZNAME:EDT
DTSTART:20260308T070000
END:DAYLIGHT
BEGIN:STANDARD
TZOFFSETFROM:-0400
TZOFFSETTO:-0500
TZNAME:EST
DTSTART:20261101T060000
END:STANDARD
BEGIN:DAYLIGHT
TZOFFSETFROM:-0500
TZOFFSETTO:-0400
TZNAME:EDT
DTSTART:20270314T070000
END:DAYLIGHT
BEGIN:STANDARD
TZOFFSETFROM:-0400
TZOFFSETTO:-0500
TZNAME:EST
DTSTART:20271107T060000
END:STANDARD
END:VTIMEZONE
BEGIN:VEVENT
DTSTART;TZID=America/Detroit:20260312T153000
DTEND;TZID=America/Detroit:20260312T163000
DTSTAMP:20260420T071632
CREATED:20251209T154043Z
LAST-MODIFIED:20260223T200101Z
UID:329-1773329400-1773333000@www.aldenlib.info
SUMMARY:Books ‘n Brie Book Club: THE PUSH [by Ashley Audrain]
DESCRIPTION:THURSDAY\, MARCH 12 th\, 3:30pm. Enjoy the company of fellow book lovers while discussing “The Push” by Ashley Audrain. Free Event. Sponsored by Alden District Library and held at Helena Township Community Center\, 8751 Helena Rd\, Alden\, 231-331-4318. \nPsychological drama — also labeled a suspenseful thriller. It was a Good Morning America Book Club selection. The mother gives you her experience of motherhood\, which is not what she expected. A “hard-toput-down” fictional story\, it raises several questions about our perceptions of motherhood\, plus issues that are rising to the forefront in today’s world. -Barb Carton \nClick here to view the Book Club PDF.
URL:https://www.aldenlib.info/event/book-club-the-push-by-ashley-audrain/
LOCATION:Alden District Library\, 8751 Helena Rd\, Alden\, MI\, 49612\, United States
ORGANIZER;CN="Alden District Library":MAILTO:aldenlib@torchlake.com
END:VEVENT
END:VCALENDAR